BEGIN:VCALENDAR
VERSION:2.0
PRODID:-// - ECPv6.0.8//NONSGML v1.0//EN
CALSCALE:GREGORIAN
METHOD:PUBLISH
X-ORIGINAL-URL:https://politicaleconomyhub.net
X-WR-CALDESC:Events for 
REFRESH-INTERVAL;VALUE=DURATION:PT1H
X-Robots-Tag:noindex
X-PUBLISHED-TTL:PT1H
BEGIN:VTIMEZONE
TZID:UTC
BEGIN:STANDARD
TZOFFSETFROM:+0000
TZOFFSETTO:+0000
TZNAME:UTC
DTSTART:20150101T000000
END:STANDARD
END:VTIMEZONE
BEGIN:VEVENT
DTSTART;TZID=UTC:20150527T051500
DTEND;TZID=UTC:20150527T190000
DTSTAMP:20260419T230311
CREATED:20150520T094847Z
LAST-MODIFIED:20190926T122322Z
UID:150-1432703700-1432753200@politicaleconomyhub.net
SUMMARY:Cambridge Research Seminar in Political Economy: Speaker Craig Muldrew
DESCRIPTION:Cambridge Research Seminar in Political Economy \nSpeaker: Craig Muldrew\, University of Cambridge\, \nPresentation: “Interest vs. Frugality in Adam Smith’s Theory of Capital Formation” \nWednesday 27 May\, 5.15-7pm\, Emmanuel College\, Gardner Room. \nAll welcome to attend.
URL:https://politicaleconomyhub.net/event/cambridge-research-seminar-in-political-economy-speaker-craig-muldrew/
LOCATION:Emmanuel College\, Gardner Room\, Saint Andrew's Street\, Cambridge\, CB2 3AP\, United Kingdom
CATEGORIES:Seminar
ORGANIZER;CN="Cambridge%20Research%20Seminar%20in%20Political%20Economy":MAILTO:philippa.buttle@ntlworld.com
END:VEVENT
END:VCALENDAR