BEGIN:VCALENDAR
VERSION:2.0
PRODID:-// - ECPv6.0.8//NONSGML v1.0//EN
CALSCALE:GREGORIAN
METHOD:PUBLISH
X-ORIGINAL-URL:https://politicaleconomyhub.net
X-WR-CALDESC:Events for 
REFRESH-INTERVAL;VALUE=DURATION:PT1H
X-Robots-Tag:noindex
X-PUBLISHED-TTL:PT1H
BEGIN:VTIMEZONE
TZID:UTC
BEGIN:STANDARD
TZOFFSETFROM:+0000
TZOFFSETTO:+0000
TZNAME:UTC
DTSTART:20160101T000000
END:STANDARD
END:VTIMEZONE
BEGIN:VEVENT
DTSTART;TZID=UTC:20161019T170000
DTEND;TZID=UTC:20161019T180000
DTSTAMP:20260424T042909
CREATED:20161011T094931Z
LAST-MODIFIED:20161114T140251Z
UID:476-1476896400-1476900000@politicaleconomyhub.net
SUMMARY:Cambridge Society for Economic Pluralism: Prof Tony Lawson & Dr Jochen Runde 'Is Economics Predictable?'
DESCRIPTION:Cambridge Society for Economic Pluralism Free events: \nProf Tony Lawson & Dr Jochen Runde: ‘Is Economics Predictable?’ \nMill Lane Room 2
URL:https://politicaleconomyhub.net/event/cambridge-society-for-economic-pluralism-prof-tony-lawson-dr-jochen-runde-is-economics-predictable/
LOCATION:Mill Lane Lecture Rooms\, Silver Street \, Cambridge\, Cambridgeshire\, CB2 1RL\, United Kingdom
CATEGORIES:Seminar
ATTACH;FMTTYPE=image/png:https://politicaleconomyhub.net/wp-content/uploads/2016/11/csepw.png
END:VEVENT
END:VCALENDAR