BEGIN:VCALENDAR
VERSION:2.0
PRODID:-// - ECPv6.0.8//NONSGML v1.0//EN
CALSCALE:GREGORIAN
METHOD:PUBLISH
X-ORIGINAL-URL:https://politicaleconomyhub.net
X-WR-CALDESC:Events for 
REFRESH-INTERVAL;VALUE=DURATION:PT1H
X-Robots-Tag:noindex
X-PUBLISHED-TTL:PT1H
BEGIN:VTIMEZONE
TZID:Europe/London
BEGIN:DAYLIGHT
TZOFFSETFROM:+0000
TZOFFSETTO:+0100
TZNAME:BST
DTSTART:20220327T010000
END:DAYLIGHT
BEGIN:STANDARD
TZOFFSETFROM:+0100
TZOFFSETTO:+0000
TZNAME:GMT
DTSTART:20221030T010000
END:STANDARD
END:VTIMEZONE
BEGIN:VEVENT
DTSTART;TZID=Europe/London:20221207T160000
DTEND;TZID=Europe/London:20221207T173000
DTSTAMP:20260422T013003
CREATED:20221128T142915Z
LAST-MODIFIED:20221128T144507Z
UID:1205-1670428800-1670434200@politicaleconomyhub.net
SUMMARY:HYPE webinar - "The current inflationary crisis in historical perspective"
DESCRIPTION:The next HYPE webinar is on the 7th of December 1600-1730 (GMT) titled “The current inflationary crisis in historical perspective” presented by Matías Vernengo. \nPlease email hype@open.ac.uk to reserve a place \nThe recordings of past events are available on the webpage
URL:https://politicaleconomyhub.net/event/hype-webinar-the-current-inflationary-crisis-in-historical-perspective/
CATEGORIES:Seminar
ATTACH;FMTTYPE=image/jpeg:https://politicaleconomyhub.net/wp-content/uploads/2022/11/OU_logo.jpg
END:VEVENT
END:VCALENDAR