BEGIN:VCALENDAR
VERSION:2.0
PRODID:-// - ECPv6.0.8//NONSGML v1.0//EN
CALSCALE:GREGORIAN
METHOD:PUBLISH
X-ORIGINAL-URL:https://politicaleconomyhub.net
X-WR-CALDESC:Events for 
REFRESH-INTERVAL;VALUE=DURATION:PT1H
X-Robots-Tag:noindex
X-PUBLISHED-TTL:PT1H
BEGIN:VTIMEZONE
TZID:UTC
BEGIN:STANDARD
TZOFFSETFROM:+0000
TZOFFSETTO:+0000
TZNAME:UTC
DTSTART:20200101T000000
END:STANDARD
END:VTIMEZONE
BEGIN:VEVENT
DTSTART;TZID=UTC:20200309T193000
DTEND;TZID=UTC:20200309T213000
DTSTAMP:20260422T085615
CREATED:20200121T142024Z
LAST-MODIFIED:20200122T112437Z
UID:1029-1583782200-1583789400@politicaleconomyhub.net
SUMMARY:Cambridge Realist Workshop - Jana Bacevic - Valuation\, Epistemic Positioning\, and Inequalities
DESCRIPTION:Speaker: Jana Bacevic\nTalk Title: ‘Ontology and the History of Economic Thought’\nDrinks available from 7:30 pm\, talk starts at 8pm.\nHeld in the Cynthia Beerbower Room at Newnham College
URL:https://politicaleconomyhub.net/event/cambridge-realist-workshop-jana-bacevic-valuation-epistemic-positioning-and-inequalities/
CATEGORIES:CRW
ATTACH;FMTTYPE=image/jpeg:https://politicaleconomyhub.net/wp-content/uploads/2015/08/csog.jpg
END:VEVENT
END:VCALENDAR