BEGIN:VCALENDAR
VERSION:2.0
PRODID:-// - ECPv6.0.8//NONSGML v1.0//EN
CALSCALE:GREGORIAN
METHOD:PUBLISH
X-ORIGINAL-URL:https://politicaleconomyhub.net
X-WR-CALDESC:Events for 
REFRESH-INTERVAL;VALUE=DURATION:PT1H
X-Robots-Tag:noindex
X-PUBLISHED-TTL:PT1H
BEGIN:VTIMEZONE
TZID:UTC
BEGIN:STANDARD
TZOFFSETFROM:+0000
TZOFFSETTO:+0000
TZNAME:UTC
DTSTART:20200101T000000
END:STANDARD
END:VTIMEZONE
BEGIN:VEVENT
DTSTART;TZID=UTC:20200224T193000
DTEND;TZID=UTC:20200224T213000
DTSTAMP:20260422T202823
CREATED:20200121T134747Z
LAST-MODIFIED:20200121T141559Z
UID:1027-1582572600-1582579800@politicaleconomyhub.net
SUMMARY:Cambridge Realist Workshop – Stephen Pratten - Money\, Social Positioning and Trust
DESCRIPTION:Speaker: Stephen Pratten\nTalk Title: ‘Money\, Social Positioning and Trust’\nDrinks available from 7:30 pm\, talk starts at 8pm.\nHeld in the Cynthia Beerbower Room at Newnham College
URL:https://politicaleconomyhub.net/event/cambridge-realist-workshop-stephen-pratten-money-social-positioning-and-trust/
LOCATION:Newnham College\, Cambridge\, United Kingdom
CATEGORIES:CRW
ATTACH;FMTTYPE=image/jpeg:https://politicaleconomyhub.net/wp-content/uploads/2015/08/csog.jpg
END:VEVENT
END:VCALENDAR