BEGIN:VCALENDAR
VERSION:2.0
PRODID:-// - ECPv6.0.8//NONSGML v1.0//EN
CALSCALE:GREGORIAN
METHOD:PUBLISH
X-ORIGINAL-URL:https://politicaleconomyhub.net
X-WR-CALDESC:Events for 
REFRESH-INTERVAL;VALUE=DURATION:PT1H
X-Robots-Tag:noindex
X-PUBLISHED-TTL:PT1H
BEGIN:VTIMEZONE
TZID:Europe/London
BEGIN:DAYLIGHT
TZOFFSETFROM:+0000
TZOFFSETTO:+0100
TZNAME:BST
DTSTART:20150329T010000
END:DAYLIGHT
BEGIN:STANDARD
TZOFFSETFROM:+0100
TZOFFSETTO:+0000
TZNAME:GMT
DTSTART:20151025T010000
END:STANDARD
END:VTIMEZONE
BEGIN:VEVENT
DTSTART;TZID=Europe/London:20150615T170000
DTEND;TZID=Europe/London:20150615T183000
DTSTAMP:20260419T230223
CREATED:20150225T141506Z
LAST-MODIFIED:20150520T074845Z
UID:69-1434387600-1434393000@politicaleconomyhub.net
SUMMARY:Cambridge Realist Workshop - Speaker: John Searle
DESCRIPTION:John Searle\, University of California\, will be speaking on the ‘Critical Issues in Social Ontology’. \nThe presentation will start at 17:00\,  with drinks served afterwards from 18:30. \nAll welcome to attend. \nThe Cambridge Realist Workshops are run in association with The Cambridge Social Ontology Group
URL:https://politicaleconomyhub.net/event/cambridge-realist-workshop-john-searle-on-some-critical-issues-in-social-ontology/
LOCATION:Newnham College\, Cambridge\, United Kingdom
CATEGORIES:Seminar
END:VEVENT
END:VCALENDAR